BEGIN:VCALENDAR
VERSION:2.0
PRODID:-//River Oaks String Quartet • Houston Based Musicians - ECPv6.15.20//NONSGML v1.0//EN
CALSCALE:GREGORIAN
METHOD:PUBLISH
X-ORIGINAL-URL:https://www.riveroaksquartet.com
X-WR-CALDESC:Events for River Oaks String Quartet • Houston Based Musicians
REFRESH-INTERVAL;VALUE=DURATION:PT1H
X-Robots-Tag:noindex
X-PUBLISHED-TTL:PT1H
BEGIN:VTIMEZONE
TZID:UTC
BEGIN:STANDARD
TZOFFSETFROM:+0000
TZOFFSETTO:+0000
TZNAME:UTC
DTSTART:20250101T000000
END:STANDARD
END:VTIMEZONE
BEGIN:VEVENT
DTSTART;TZID=UTC:20260529T190000
DTEND;TZID=UTC:20260529T200000
DTSTAMP:20260420T220845
CREATED:20260407T145954Z
LAST-MODIFIED:20260407T145954Z
UID:3710-1780081200-1780084800@www.riveroaksquartet.com
SUMMARY:Candlelight: A Tribute to Bad Bunny
DESCRIPTION:⭐   Candlelight    concerts bring the magic of a live\, multi-sensory musical experience to awe-inspiring locations like never seen before in Houston. Get your tickets now to discover the music of Bad Bunny at Lone Star Flight Museum under the gentle glow of candlelight.     General Info     📍 Venue: Lone Star Flight Museum    📅 Dates and times: select your dates/times directly in the ticket selector    ⏳ Duration: 60 minutes. Doors open 60 minutes before the show and  close 5 minutes prior to the start. Late arrivals will not be permitted     👤 Age requirement: 8 years old or older. Anyone under the age of 16 must be accompanied by an adult    ♿ Accessibility: this venue is ADA-compliant    ❓ View the FAQs for this event    here     🪑 Seating is assigned on a first come first served basis in each zone    🕯️ If you would like to book a private concert or buy regular tickets for a large group (+30 people)\, click  here    🎻 Check out all the    Candlelight concerts    in Houston    🎁 To treat your friends and family to a Candlelight gift card\, click    here      Tentative Program      NUEVAYol    Si Estuviésemos Juntos    La Canción    La Noche de Anoche    Yonaguni    Moscow Mule    Callaíta    Ojitos Lindos    Me Porto Bonito    Tití Me Preguntó    un 100xto    BAILE INoLVIDABLE    DtMF – LA MuDANZA medley      Performers      Listeso String Quartet     ﻿     Seating Map         \nEvent Details\n\nVenue: Lone Star Flight Museum\nCity: Houston\nShowtimes: 7:00p\nPerformers: Listeso String Quartet\n\nBuy Tickets  |  Get a Quote
URL:https://www.riveroaksquartet.com/concert/candlelight-a-tribute-to-bad-bunny-2/
LOCATION:Lone Star Flight Museum\, 11551 Aerospace Avenue\, Houston\, TX\, 77034\, US
END:VEVENT
BEGIN:VEVENT
DTSTART;TZID=UTC:20260529T190000
DTEND;TZID=UTC:20260529T200000
DTSTAMP:20260420T220845
CREATED:20260407T145958Z
LAST-MODIFIED:20260407T145958Z
UID:3713-1780081200-1780084800@www.riveroaksquartet.com
SUMMARY:Candlelight: Tribute to Adele
DESCRIPTION:⭐   Candlelight  concerts bring the magic of a live\, multi-sensory musical experience to awe-inspiring locations like never seen before in Houston. Get your tickets now to discover music from Adele at the Lone Star Flight Museum under the gentle glow of candlelight.   \n  General Info\n📍 Venue: Lone Star Flight Museum\n📅 Dates and times: select your dates/times directly in the ticket selector\n⏳ Duration: 60 minutes. Doors open 75 minutes before the show. No entry once it starts.\n👤 Age requirement: 8 years old or older. Anyone under the age of 16 must be accompanied by an adult\n♿ Accessibility: this venue is ADA compliant\n❓ View the FAQs for this event  here\n🪑 Seating is assigned on a first come first served basis in each zone\n🚁 Immerse yourself in the rare aircrafts exhibits and learn about the history of aviation\n🕯️ If you would like to book a private concert or buy regular tickets for a large group (+30 people)\, click  here\n🎻 Check out all the  Candlelight concerts  in Houston\n🎁 To treat your friends and family to a Candlelight gift card\, click  here   \n  Tentative Program   \n	 Hello\n	 Rumour Has It\n	 Make You Feel My Love\n	 Water Under the Bridge\n	 Oh My God\n	 Someone Like You\n	 Send My Love (To Your New Lover)\n	 Chasing Pavements\n	 Skyfall\n	 When We Were Young\n	 Set Fire to the Rain\n	 Easy On Me\n	 Rolling in the Deep  \n  Performers   \n	 Listeso String Quartet  \n   \nEvent Details\n\nVenue: Lone Star Flight Museum\nCity: Houston\nShowtimes: 7:00p\, 9:15p\nPerformers: Listeso String Quartet\n\nBuy Tickets  |  Get a Quote
URL:https://www.riveroaksquartet.com/concert/candlelight-tribute-to-adele-4/
LOCATION:Lone Star Flight Museum\, 11551 Aerospace Avenue\, Houston\, TX\, 77034\, US
END:VEVENT
BEGIN:VEVENT
DTSTART;TZID=UTC:20260606T190000
DTEND;TZID=UTC:20260606T200000
DTSTAMP:20260420T220845
CREATED:20260407T145933Z
LAST-MODIFIED:20260407T145933Z
UID:3716-1780772400-1780776000@www.riveroaksquartet.com
SUMMARY:Candlelight: Tribute to Juan Gabriel on Strings
DESCRIPTION:⭐   Candlelight  concerts bring the magic of a live\, multi-sensory musical experience to awe-inspiring locations like never seen before in Houston. Get your tickets now to discover the music of Juan Gabriel on Strings at Resurrection MCC under the gentle glow of candlelight.   \n  General Info\n📍 Venue: Resurrection MCC\n📅 Dates and times: select your dates/times directly in the ticket selector\n⏳ Duration: 60 minutes. Doors open 60 minutes before the show. No entry once it starts.\n👤 Age requirement: 8 years old or older. Anyone under the age of 16 must be accompanied by an adult\n♿ Accessibility: this venue is ADA compliant\n❓ View the FAQs for this event  here\n🪑 Seating is assigned on a first come first served basis in each zone\n🕯️ If you would like to book a private concert or buy regular tickets for a large group (+30 people)\, click  here\n🎻 Check out all the  Candlelight concerts  in Houston\n🎁 To treat your friends and family to a Candlelight gift card\, click  here   \n  Tentative Program   \n	 Buenos Días Señor Sol\n	 Así Fue\n	 Abrázame Muy Fuerte\n	 La Diferencia\n	 Querida\n	 No Tengo Dinero\n	 Por Qué Me Haces Llorar\n	 Siempre en Mi Mente\n	 Amor Eterno\n	 Pero Qué Necesidad\n	 El Noa Noa\n	 Caray  \n Performers   \n	 String Quartet – Listeso  \n  Seating Map   \nEvent Details\n\nVenue: Resurrection MCC\nCity: Houston\nShowtimes: 6:30p\nPerformers: String Quartet – Listeso\n\nBuy Tickets  |  Get a Quote
URL:https://www.riveroaksquartet.com/concert/candlelight-tribute-to-juan-gabriel-on-strings-4/
LOCATION:Resurrection MCC\, Houston\, TX\, US
END:VEVENT
END:VCALENDAR