BEGIN:VCALENDAR
VERSION:2.0
PRODID:-//River Oaks String Quartet • Houston Based Musicians - ECPv6.15.20//NONSGML v1.0//EN
CALSCALE:GREGORIAN
METHOD:PUBLISH
X-WR-CALNAME:River Oaks String Quartet • Houston Based Musicians
X-ORIGINAL-URL:https://www.riveroaksquartet.com
X-WR-CALDESC:Events for River Oaks String Quartet • Houston Based Musicians
REFRESH-INTERVAL;VALUE=DURATION:PT1H
X-Robots-Tag:noindex
X-PUBLISHED-TTL:PT1H
BEGIN:VTIMEZONE
TZID:UTC
BEGIN:STANDARD
TZOFFSETFROM:+0000
TZOFFSETTO:+0000
TZNAME:UTC
DTSTART:20200101T000000
END:STANDARD
END:VTIMEZONE
BEGIN:VEVENT
DTSTART;TZID=UTC:20210707T183000
DTEND;TZID=UTC:20210707T193500
DTSTAMP:20260420T075815
CREATED:20210704T205608Z
LAST-MODIFIED:20210707T211256Z
UID:1451-1625682600-1625686500@www.riveroaksquartet.com
SUMMARY:Candlelight: From Bach to The Beatles
DESCRIPTION:Tickets available for purchase here. \nHire us for your event! Click here to get a quote. \n🎫 Zone A seating (great visibility)\n🎫 Zone B seating (good visibility) \nSeating is assigned on a first come first served basis within each zone \nWhat You Will Enjoy\n🕯️ An intimate ambience in a beautiful venue bathed in candlelight\n🎻 The talented Listeso String Quartet performing pieces from Bach to The Beatles\n⛪ The stunning architecture of the iconic Sanman Studios in Downtown Houston\n✔️ A safe\, comfortable and socially-distanced event\n🍽️ BYOB! You are welcome to bring your own food and drinks. Alcoholic beverages are permitted onsite (ID check required) \nGeneral Info\n📍 Venue: Sanman Studios in Houston\, TX\n📅 Date and time: various dates at 6:30pm and 9pm (select during purchase)\n⏳ Duration: 65 minutes (doors open 1 hour prior to the start time and late entry is not permitted)\n👤 Age requirement: 10 years old or older. Anyone under the age of 16 must be accompanied by an adult\n♿ Accessibility: this venue is ADA compliant\n❓ View the FAQs for this event here\n🔗 Your safety is Fever’s priority. You can read the safety measures for this event here \nTentative Program \n\nBach Cello Suite 1 Prelude\nHaydn The Bird\nBachianas Brasileiras No.5\nAlbinoni Adagio\nAdagio for Strings\nFaure Pavane\nBrandenburg No 3 and 5\nQueen of Sheba\nI Want to Hold Your Hand\nHere Comes the Sun\nEleanor Rigby\nBlackbird\nWith the Help of My Friends\n\nPerformers \n\nListeso String Quartet\n\nDescription\nWhether you’re looking for a beautifully unique classical music performance or a romantic candlelit experience\, this performance is for you. From Bach to the Beatles\, go on a musical journey through the ages while you sit back and savor the stunning atmosphere. Join our musicians for an evening gently illuminated by candlelight\, and prepare to be taken into the clouds with history’s most treasured masterpieces! \nUser Reviews\n💬 Lauren M. ⭐⭐⭐⭐⭐: “Beautiful\, great music\, great ambiance\, beautiful venue\, very organized\, very clean and safe”\n💬 Linda S. ⭐⭐⭐⭐⭐: “Loved the intimate setting\, beautiful music and safety measures!!! Amazing”\n💬 Robin D. ⭐⭐⭐⭐⭐: “We had a great time!! Easy to book\, great venue\, and exceptional performance!!”
URL:https://www.riveroaksquartet.com/concert/candlelight-from-bach-to-the-beatles/
LOCATION:Sanman Studios\, 1109 Providence St.\, Houston\, TX\, 77002\, United States
CATEGORIES:Candlelight: From Bach to The Beatles,Houston, TX
ATTACH;FMTTYPE=image/jpeg:https://www.riveroaksquartet.com/wp-content/uploads/2021/07/candlelight-featured-2767e874-8c81-11eb-b783-06551cb39bc6-Iwnrdw.tmp_.jpg
END:VEVENT
END:VCALENDAR