BEGIN:VCALENDAR
VERSION:2.0
PRODID:-//River Oaks String Quartet • Houston Based Musicians - ECPv6.15.20//NONSGML v1.0//EN
CALSCALE:GREGORIAN
METHOD:PUBLISH
X-ORIGINAL-URL:https://www.riveroaksquartet.com
X-WR-CALDESC:Events for River Oaks String Quartet • Houston Based Musicians
REFRESH-INTERVAL;VALUE=DURATION:PT1H
X-Robots-Tag:noindex
X-PUBLISHED-TTL:PT1H
BEGIN:VTIMEZONE
TZID:America/Chicago
BEGIN:DAYLIGHT
TZOFFSETFROM:-0600
TZOFFSETTO:-0500
TZNAME:CDT
DTSTART:20200308T080000
END:DAYLIGHT
BEGIN:STANDARD
TZOFFSETFROM:-0500
TZOFFSETTO:-0600
TZNAME:CST
DTSTART:20201101T070000
END:STANDARD
BEGIN:DAYLIGHT
TZOFFSETFROM:-0600
TZOFFSETTO:-0500
TZNAME:CDT
DTSTART:20210314T080000
END:DAYLIGHT
BEGIN:STANDARD
TZOFFSETFROM:-0500
TZOFFSETTO:-0600
TZNAME:CST
DTSTART:20211107T070000
END:STANDARD
BEGIN:DAYLIGHT
TZOFFSETFROM:-0600
TZOFFSETTO:-0500
TZNAME:CDT
DTSTART:20220313T080000
END:DAYLIGHT
BEGIN:STANDARD
TZOFFSETFROM:-0500
TZOFFSETTO:-0600
TZNAME:CST
DTSTART:20221106T070000
END:STANDARD
END:VTIMEZONE
BEGIN:VEVENT
DTSTART;TZID=America/Chicago:20211101T180000
DTEND;TZID=America/Chicago:20211101T190000
DTSTAMP:20260419T170309
CREATED:20211002T080251Z
LAST-MODIFIED:20211101T180410Z
UID:1638-1635789600-1635793200@www.riveroaksquartet.com
SUMMARY:Candlelight Open Air Día De Los Muertos: Celebrating the Day of the Dead
DESCRIPTION:Tickets available for purchase here. \nHire us for your event! Click here to get a quote. \n🎫 Sunset Show for 2\n🎫 Sunset Show for 4\n🎫 Late Show for 2\n🎫 Late Show for 4 \nSeating is assigned on a first come first served basis within each zone \nWhat You Will Enjoy\n🕯️ An intimate ambience in a beautiful venue bathed in candlelight\n🎻The talented Listeso String Quartet performing classical pieces to celebrate the Day of the Dead\n🌃 A stunning open-air experience at Hughes Manor\n✔️ A safe\, comfortable and socially-distanced event\n🍽️ Food will be provided by Churrascos Catering and available for additional purchase. \nGeneral Info\n📌 Venue: Hughes Manor in Houston\, TX\n📅 Dates and times: November 1st at 6:30pm and 9:15pm (select during purchase)\n⏳ Duration: 60 minutes (doors open 60 mins prior to the start time and late entry is not permitted)\n👤 Age requirement: 10 years old or older. Anyone under the age of 16 must be accompanied by an adult\n♿ Accessibility: this venue is ADA compliant.\n❓ View the FAQs for this event here\n🔗 Your safety is Fever’s priority. You can read the safety measures for this event here \nTentative Program \n\n“Prelude” from the film Psicosis (Psycho) – Bernard Herrmann\n“Halloween (Theme)” from the film Halloween – John Carpenter\n“Los Locos Adams (Theme)” from the TV series The Addams Family – Vic Mizzy\n“Ghostbusters (Theme)” from the film Ghostbusters – Ray Parker Jr.\n“Apertura (Overture)” from the musical El Fantasma de la Ópera (The Phantom of the Opera) – Andrew Lloyd Webber\n“Esto es Halloween (This is Halloween)” from the filma El Extraño Mundo de Jack (The Nightmare Before Christmas) – Danny Elfman\n“Hedwig’s Theme” from the film Harry Potter and the Sorcerer’s Stone – John Williams\n“The Walking Dead (Theme)” from the TV series The Walking Dead – Bear McCreary\n“Stranger Things (Theme)” from the TV series Stranger Things – S U R V I V E\n“Thriller” – Michael Jackson\n“Recuérdame (Remember Me)” from the film Coco – Kristen Anderson Lopez and Robert Lopez\n“El Latido de mi Corazón (Proud Corazón)” from the film Coco – Kristen Anderson Lopez and Robert Lopez\n“Dios Nunca Muere (God Never Dies)” – Mexican waltz composed by Macedonio Alcalá\n“La Martiniana”- Oaxacan popular song adapted by Andrés Henestrosa based on the anonymous song “La Micaela”\n“La Bruja (The Witch)” – Veracruz popular song by unknown composer\n“La Llorona (The Weeping Woman)” – Mexican popular song of unknown author\, attributed to Andrés Henestrosa\n“Amor Eterno (Eternal Love)” – Juan Gabriel\n\nPerformers \n\nListeso String Quartet\n\nDescription\nA performance of some haunted classical music like you’ve never seen before. Fever’s Candlelight is an intimate performance set in a popular building that is almost as stunning as the pieces you’ll hear. Savor the music in a uniquely romantic atmosphere created by flickering candlelight and the other classical music lovers. Sit back and be taken into the clouds with classics from Día De Los Muertos: Celebrating the Day of the Dead. You’ll be hearing some selections from the best known composers in history – discover new music and classics that everyone loves in the most magical setting! \nReviews\n💬 Dorian T. ⭐⭐⭐⭐⭐: “Wonderful experience\, right amount of time for the concert and great environment! We loved it!!!”\n💬 Trey M. ⭐⭐⭐⭐⭐: “Amazing show and atmosphere with a very professional staff. All the pandemic guidelines were followed perfectly.”\n💬 TA M. ⭐⭐⭐⭐⭐: “It was fantastic and safe. Everything flowed beautifully throughout the evening. I’ll definitely return for the next event.”
URL:https://www.riveroaksquartet.com/concert/candlelight-open-air-dia-de-los-muertos-celebrating-the-day-of-the-dead/
LOCATION:Hughes Manor\, 2811 Washington Ave\, Houston\, TX\, 77007\, United States
CATEGORIES:Candlelight Open Air Día De Los Muertos: Celebrating the Day of the Dead,Houston, TX
ATTACH;FMTTYPE=image/jpeg:https://www.riveroaksquartet.com/wp-content/uploads/2021/10/candlelight-featured-3308d880-0cd5-11ec-8046-be0b92b8f74d-DUcsgZ.tmp_.jpg
END:VEVENT
BEGIN:VEVENT
DTSTART;TZID=America/Chicago:20211102T180000
DTEND;TZID=America/Chicago:20211102T190000
DTSTAMP:20260419T170309
CREATED:20211003T080151Z
LAST-MODIFIED:20211101T180410Z
UID:1643-1635876000-1635879600@www.riveroaksquartet.com
SUMMARY:Candlelight Open Air Día De Los Muertos: Celebrating the Day of the Dead
DESCRIPTION:Tickets available for purchase here. \nHire us for your event! Click here to get a quote. \n🎫 Sunset Show for 2\n🎫 Sunset Show for 4\n🎫 Late Show for 2\n🎫 Late Show for 4 \nSeating is assigned on a first come first served basis within each zone \nWhat You Will Enjoy\n🕯️ An intimate ambience in a beautiful venue bathed in candlelight\n🎻The talented Listeso String Quartet performing classical pieces to celebrate the Day of the Dead\n🌃 A stunning open-air experience at Hughes Manor\n✔️ A safe\, comfortable and socially-distanced event\n🍽️ Food will be provided by Churrascos Catering and available for additional purchase. \nGeneral Info\n📌 Venue: Hughes Manor in Houston\, TX\n📅 Dates and times: November 1st at 6:30pm and 9:15pm (select during purchase)\n⏳ Duration: 60 minutes (doors open 60 mins prior to the start time and late entry is not permitted)\n👤 Age requirement: 10 years old or older. Anyone under the age of 16 must be accompanied by an adult\n♿ Accessibility: this venue is ADA compliant.\n❓ View the FAQs for this event here\n🔗 Your safety is Fever’s priority. You can read the safety measures for this event here \nTentative Program \n\n“Prelude” from the film Psicosis (Psycho) – Bernard Herrmann\n“Halloween (Theme)” from the film Halloween – John Carpenter\n“Los Locos Adams (Theme)” from the TV series The Addams Family – Vic Mizzy\n“Ghostbusters (Theme)” from the film Ghostbusters – Ray Parker Jr.\n“Apertura (Overture)” from the musical El Fantasma de la Ópera (The Phantom of the Opera) – Andrew Lloyd Webber\n“Esto es Halloween (This is Halloween)” from the filma El Extraño Mundo de Jack (The Nightmare Before Christmas) – Danny Elfman\n“Hedwig’s Theme” from the film Harry Potter and the Sorcerer’s Stone – John Williams\n“The Walking Dead (Theme)” from the TV series The Walking Dead – Bear McCreary\n“Stranger Things (Theme)” from the TV series Stranger Things – S U R V I V E\n“Thriller” – Michael Jackson\n“Recuérdame (Remember Me)” from the film Coco – Kristen Anderson Lopez and Robert Lopez\n“El Latido de mi Corazón (Proud Corazón)” from the film Coco – Kristen Anderson Lopez and Robert Lopez\n“Dios Nunca Muere (God Never Dies)” – Mexican waltz composed by Macedonio Alcalá\n“La Martiniana”- Oaxacan popular song adapted by Andrés Henestrosa based on the anonymous song “La Micaela”\n“La Bruja (The Witch)” – Veracruz popular song by unknown composer\n“La Llorona (The Weeping Woman)” – Mexican popular song of unknown author\, attributed to Andrés Henestrosa\n“Amor Eterno (Eternal Love)” – Juan Gabriel\n\nPerformers \n\nListeso String Quartet\n\nDescription\nA performance of some haunted classical music like you’ve never seen before. Fever’s Candlelight is an intimate performance set in a popular building that is almost as stunning as the pieces you’ll hear. Savor the music in a uniquely romantic atmosphere created by flickering candlelight and the other classical music lovers. Sit back and be taken into the clouds with classics from Día De Los Muertos: Celebrating the Day of the Dead. You’ll be hearing some selections from the best known composers in history – discover new music and classics that everyone loves in the most magical setting! \nReviews\n💬 Dorian T. ⭐⭐⭐⭐⭐: “Wonderful experience\, right amount of time for the concert and great environment! We loved it!!!”\n💬 Trey M. ⭐⭐⭐⭐⭐: “Amazing show and atmosphere with a very professional staff. All the pandemic guidelines were followed perfectly.”\n💬 TA M. ⭐⭐⭐⭐⭐: “It was fantastic and safe. Everything flowed beautifully throughout the evening. I’ll definitely return for the next event.”
URL:https://www.riveroaksquartet.com/concert/candlelight-open-air-dia-de-los-muertos-celebrating-the-day-of-the-dead-2/
LOCATION:Hughes Manor\, 2811 Washington Ave\, Houston\, TX\, 77007\, United States
CATEGORIES:Candlelight Open Air Día De Los Muertos: Celebrating the Day of the Dead,Houston, TX
ATTACH;FMTTYPE=image/jpeg:https://www.riveroaksquartet.com/wp-content/uploads/2021/10/candlelight-featured-3308d880-0cd5-11ec-8046-be0b92b8f74d-DUcsgZ.tmp_.jpg
END:VEVENT
BEGIN:VEVENT
DTSTART;TZID=America/Chicago:20211102T183000
DTEND;TZID=America/Chicago:20211102T193000
DTSTAMP:20260419T170309
CREATED:20211102T180108Z
LAST-MODIFIED:20211102T180110Z
UID:1682-1635877800-1635881400@www.riveroaksquartet.com
SUMMARY:Candlelight Open Air Día De Los Muertos: Celebrating the Day of the Dead
DESCRIPTION:Tickets available for purchase here. \nHire us for your event! Click here to get a quote. \n🎫 Sunset Show for 2\n🎫 Sunset Show for 4\n🎫 Late Show for 2\n🎫 Late Show for 4 \nSeating is assigned on a first come first served basis within each zone \nWhat You Will Enjoy\n🕯️ An intimate ambience in a beautiful venue bathed in candlelight\n🎻The talented Listeso String Quartet performing classical pieces to celebrate the Day of the Dead\n🌃 A stunning open-air experience at Hughes Manor\n✔️ A safe\, comfortable and socially-distanced event\n🍽️ Food will be provided by Churrascos Catering and available for additional purchase. \nGeneral Info\n📌 Venue: Hughes Manor in Houston\, TX\n📅 Dates and times: November 1st at 6:30pm and 9:15pm (select during purchase)\n⏳ Duration: 60 minutes (doors open 60 mins prior to the start time and late entry is not permitted)\n👤 Age requirement: 10 years old or older. Anyone under the age of 16 must be accompanied by an adult\n♿ Accessibility: this venue is ADA compliant.\n❓ View the FAQs for this event here\n🔗 Your safety is Fever’s priority. You can read the safety measures for this event here \nTentative Program \n\n“Prelude” from the film Psicosis (Psycho) – Bernard Herrmann\n“Halloween (Theme)” from the film Halloween – John Carpenter\n“Los Locos Adams (Theme)” from the TV series The Addams Family – Vic Mizzy\n“Ghostbusters (Theme)” from the film Ghostbusters – Ray Parker Jr.\n“Apertura (Overture)” from the musical El Fantasma de la Ópera (The Phantom of the Opera) – Andrew Lloyd Webber\n“Esto es Halloween (This is Halloween)” from the filma El Extraño Mundo de Jack (The Nightmare Before Christmas) – Danny Elfman\n“Hedwig’s Theme” from the film Harry Potter and the Sorcerer’s Stone – John Williams\n“The Walking Dead (Theme)” from the TV series The Walking Dead – Bear McCreary\n“Stranger Things (Theme)” from the TV series Stranger Things – S U R V I V E\n“Thriller” – Michael Jackson\n“Recuérdame (Remember Me)” from the film Coco – Kristen Anderson Lopez and Robert Lopez\n“El Latido de mi Corazón (Proud Corazón)” from the film Coco – Kristen Anderson Lopez and Robert Lopez\n“Dios Nunca Muere (God Never Dies)” – Mexican waltz composed by Macedonio Alcalá\n“La Martiniana”- Oaxacan popular song adapted by Andrés Henestrosa based on the anonymous song “La Micaela”\n“La Bruja (The Witch)” – Veracruz popular song by unknown composer\n“La Llorona (The Weeping Woman)” – Mexican popular song of unknown author\, attributed to Andrés Henestrosa\n“Amor Eterno (Eternal Love)” – Juan Gabriel\n\nPerformers \n\nListeso String Quartet\n\nDescription\nA performance of some haunted classical music like you’ve never seen before. Fever’s Candlelight is an intimate performance set in a popular building that is almost as stunning as the pieces you’ll hear. Savor the music in a uniquely romantic atmosphere created by flickering candlelight and the other classical music lovers. Sit back and be taken into the clouds with classics from Día De Los Muertos: Celebrating the Day of the Dead. You’ll be hearing some selections from the best known composers in history – discover new music and classics that everyone loves in the most magical setting! \nReviews\n💬 Dorian T. ⭐⭐⭐⭐⭐: “Wonderful experience\, right amount of time for the concert and great environment! We loved it!!!”\n💬 Trey M. ⭐⭐⭐⭐⭐: “Amazing show and atmosphere with a very professional staff. All the pandemic guidelines were followed perfectly.”\n💬 TA M. ⭐⭐⭐⭐⭐: “It was fantastic and safe. Everything flowed beautifully throughout the evening. I’ll definitely return for the next event.”
URL:https://www.riveroaksquartet.com/concert/candlelight-open-air-dia-de-los-muertos-celebrating-the-day-of-the-dead-3/
LOCATION:Hughes Manor\, 2811 Washington Ave\, Houston\, TX\, 77007\, United States
CATEGORIES:Candlelight Open Air Día De Los Muertos: Celebrating the Day of the Dead,Houston, TX
ATTACH;FMTTYPE=image/jpeg:https://www.riveroaksquartet.com/wp-content/uploads/2021/10/candlelight-featured-3308d880-0cd5-11ec-8046-be0b92b8f74d-DUcsgZ.tmp_.jpg
END:VEVENT
BEGIN:VEVENT
DTSTART;TZID=America/Chicago:20211109T183000
DTEND;TZID=America/Chicago:20211109T193000
DTSTAMP:20260419T170309
CREATED:20211010T144604Z
LAST-MODIFIED:20211109T184710Z
UID:1654-1636482600-1636486200@www.riveroaksquartet.com
SUMMARY:Candlelight: A Tribute to Queen and More
DESCRIPTION:Tickets available for purchase here. \nHire us for your event! Click here to get a quote. \n🎫 Zone A seating (great visibility)\n🎫 Zone B seating (good visibility) \nSeating is assigned on a first come first served basis within each zone \nWhat You Will Enjoy\n🕯️ An intimate ambience in a beautiful venue bathed in candlelight\n🎻 A talented string quartet performing a tribute to Queen and more\n⛪ The stunning architecture of the iconic Sanman Studios in Downtown Houston\n✔️ A safe\, comfortable and socially-distanced event\n🍽️ BYOB – you are welcome to bring your own food and drinks. Alcoholic beverages are permitted onsite. ID check required upon request. \nGeneral Info\n📍 Venue: Sanman Studios in Houston\, TX\n📅 Date and time: November 9th and 11th at 6:30pm & 9:15pm (select during purchase)\n⏳ Duration: 60 minutes (doors open 1 hour prior to the start time and late entry is not permitted)\n👤 Age requirement: 10 years old or older. Anyone under the age of 16 must be accompanied by an adult\n♿ Accessibility: this venue is ADA compliant\n❓ View the FAQs for this event here\n🔗 Your safety is Fever’s priority. You can read the safety measures for this event here \nTentative Program\nQueen: \n\n“Don’t Stop Me Now”\n“Killer Queen”\n“Somebody to Love”\n“Love of My Life”\n“Crazy Little Thing Called Love”\n“Under Pressure” (Queen and David Bowie)\n“Bohemian Rhapsody”\n“Fat Bottomed Girls”\n“We Will Rock You”\n“Another One Bites The Dust”\n“We Are The Champions”\n\nOther Works: \n\n“O mio babbino Caro” from Gianni Schicchi – Puccini\n“Quando m’en Vo’” (Musetta’s Waltz) from La Boheme – Puccini\n“Der Hölle Rache kocht in meinem Herzen” (Queen of the Night Aria) – Mozart\n\nPerformers \n\nListeso String Quartet\n\nDescription\nListen to Queen’s legendary hits like never before! This exclusive concert under the gentle glow of candlelight will undoubtedly be a memorable experience. Our artist will be performing some of Queen along with many more other artist’s best works on stage in a stunning venue that will only add to the beauty of these pieces. Sit back and enjoy an intimate concert unlike any you’ve ever experienced! \nReviews\n💬 Nancy G. ⭐⭐⭐⭐⭐: “Very impressive!!! Beautiful\, musicians are very professional. It was an incredible experience!!!”\n💬 Holly H. ⭐⭐⭐⭐⭐: “Very well run and the very talented musicians were great!”\n💬 Pamela J. ⭐⭐⭐⭐⭐: “Wonderful performances and stunning atmosphere.”
URL:https://www.riveroaksquartet.com/concert/candlelight-a-tribute-to-queen-and-more/
LOCATION:Sanman Studios\, 1109 Providence St.\, Houston\, TX\, 77002\, United States
CATEGORIES:Candlelight: A Tribute to Queen,Houston, TX
ATTACH;FMTTYPE=image/jpeg:https://www.riveroaksquartet.com/wp-content/uploads/2021/10/candlelight-featured-f8e29704-d33b-11eb-9522-06551cb39bc6-6a4jqR.tmp_.jpg
END:VEVENT
BEGIN:VEVENT
DTSTART;TZID=America/Chicago:20211111T180000
DTEND;TZID=America/Chicago:20211111T190000
DTSTAMP:20260419T170309
CREATED:20211012T150053Z
LAST-MODIFIED:20211101T180410Z
UID:1659-1636653600-1636657200@www.riveroaksquartet.com
SUMMARY:Candlelight: A Tribute to Queen and More
DESCRIPTION:Tickets available for purchase here. \nHire us for your event! Click here to get a quote. \n🎫 Zone A seating (great visibility)\n🎫 Zone B seating (good visibility) \nSeating is assigned on a first come first served basis within each zone \nWhat You Will Enjoy\n🕯️ An intimate ambience in a beautiful venue bathed in candlelight\n🎻 A talented string quartet performing a tribute to Queen and more\n⛪ The stunning architecture of the iconic Sanman Studios in Downtown Houston\n✔️ A safe\, comfortable and socially-distanced event\n🍽️ BYOB – you are welcome to bring your own food and drinks. Alcoholic beverages are permitted onsite. ID check required upon request. \nGeneral Info\n📍 Venue: Sanman Studios in Houston\, TX\n📅 Date and time: November 9th and 11th at 6:30pm & 9:15pm (select during purchase)\n⏳ Duration: 60 minutes (doors open 1 hour prior to the start time and late entry is not permitted)\n👤 Age requirement: 10 years old or older. Anyone under the age of 16 must be accompanied by an adult\n♿ Accessibility: this venue is ADA compliant\n❓ View the FAQs for this event here\n🔗 Your safety is Fever’s priority. You can read the safety measures for this event here \nTentative Program\nQueen: \n\n“Don’t Stop Me Now”\n“Killer Queen”\n“Somebody to Love”\n“Love of My Life”\n“Crazy Little Thing Called Love”\n“Under Pressure” (Queen and David Bowie)\n“Bohemian Rhapsody”\n“Fat Bottomed Girls”\n“We Will Rock You”\n“Another One Bites The Dust”\n“We Are The Champions”\n\nOther Works: \n\n“O mio babbino Caro” from Gianni Schicchi – Puccini\n“Quando m’en Vo’” (Musetta’s Waltz) from La Boheme – Puccini\n“Der Hölle Rache kocht in meinem Herzen” (Queen of the Night Aria) – Mozart\n\nPerformers \n\nListeso String Quartet\n\nDescription\nListen to Queen’s legendary hits like never before! This exclusive concert under the gentle glow of candlelight will undoubtedly be a memorable experience. Our artist will be performing some of Queen along with many more other artist’s best works on stage in a stunning venue that will only add to the beauty of these pieces. Sit back and enjoy an intimate concert unlike any you’ve ever experienced! \nReviews\n💬 Nancy G. ⭐⭐⭐⭐⭐: “Very impressive!!! Beautiful\, musicians are very professional. It was an incredible experience!!!”\n💬 Holly H. ⭐⭐⭐⭐⭐: “Very well run and the very talented musicians were great!”\n💬 Pamela J. ⭐⭐⭐⭐⭐: “Wonderful performances and stunning atmosphere.”
URL:https://www.riveroaksquartet.com/concert/candlelight-a-tribute-to-queen-and-more-2/
LOCATION:Sanman Studios\, 1109 Providence St.\, Houston\, TX\, 77002\, United States
CATEGORIES:Candlelight: A Tribute to Queen,Houston, TX
ATTACH;FMTTYPE=image/jpeg:https://www.riveroaksquartet.com/wp-content/uploads/2021/10/candlelight-featured-f8e29704-d33b-11eb-9522-06551cb39bc6-6a4jqR.tmp_.jpg
END:VEVENT
BEGIN:VEVENT
DTSTART;TZID=America/Chicago:20211111T183000
DTEND;TZID=America/Chicago:20211111T193000
DTSTAMP:20260419T170309
CREATED:20211102T180108Z
LAST-MODIFIED:20211111T190217Z
UID:1683-1636655400-1636659000@www.riveroaksquartet.com
SUMMARY:Candlelight: A Tribute to Queen and More
DESCRIPTION:Tickets available for purchase here. \nHire us for your event! Click here to get a quote. \n🎫 Zone A seating (great visibility)\n🎫 Zone B seating (good visibility) \nSeating is assigned on a first come first served basis within each zone \nWhat You Will Enjoy\n🕯️ An intimate ambience in a beautiful venue bathed in candlelight\n🎻 A talented string quartet performing a tribute to Queen and more\n⛪ The stunning architecture of the iconic Sanman Studios in Downtown Houston\n✔️ A safe\, comfortable and socially-distanced event\n🍽️ BYOB – you are welcome to bring your own food and drinks. Alcoholic beverages are permitted onsite. ID check required upon request. \nGeneral Info\n📍 Venue: Sanman Studios in Houston\, TX\n📅 Date and time: November 9th and 11th at 6:30pm & 9:15pm (select during purchase)\n⏳ Duration: 60 minutes (doors open 1 hour prior to the start time and late entry is not permitted)\n👤 Age requirement: 10 years old or older. Anyone under the age of 16 must be accompanied by an adult\n♿ Accessibility: this venue is ADA compliant\n❓ View the FAQs for this event here\n🔗 Your safety is Fever’s priority. You can read the safety measures for this event here \nTentative Program\nQueen: \n\n“Don’t Stop Me Now”\n“Killer Queen”\n“Somebody to Love”\n“Love of My Life”\n“Crazy Little Thing Called Love”\n“Under Pressure” (Queen and David Bowie)\n“Bohemian Rhapsody”\n“Fat Bottomed Girls”\n“We Will Rock You”\n“Another One Bites The Dust”\n“We Are The Champions”\n\nOther Works: \n\n“O mio babbino Caro” from Gianni Schicchi – Puccini\n“Quando m’en Vo’” (Musetta’s Waltz) from La Boheme – Puccini\n“Der Hölle Rache kocht in meinem Herzen” (Queen of the Night Aria) – Mozart\n\nPerformers \n\nListeso String Quartet\n\nDescription\nListen to Queen’s legendary hits like never before! This exclusive concert under the gentle glow of candlelight will undoubtedly be a memorable experience. Our artist will be performing some of Queen along with many more other artist’s best works on stage in a stunning venue that will only add to the beauty of these pieces. Sit back and enjoy an intimate concert unlike any you’ve ever experienced! \nReviews\n💬 Nancy G. ⭐⭐⭐⭐⭐: “Very impressive!!! Beautiful\, musicians are very professional. It was an incredible experience!!!”\n💬 Holly H. ⭐⭐⭐⭐⭐: “Very well run and the very talented musicians were great!”\n💬 Pamela J. ⭐⭐⭐⭐⭐: “Wonderful performances and stunning atmosphere.”
URL:https://www.riveroaksquartet.com/concert/candlelight-a-tribute-to-queen-and-more-3/
LOCATION:Sanman Studios\, 1109 Providence St.\, Houston\, TX\, 77002\, United States
CATEGORIES:Candlelight: A Tribute to Queen,Houston, TX
ATTACH;FMTTYPE=image/jpeg:https://www.riveroaksquartet.com/wp-content/uploads/2021/10/candlelight-featured-f8e29704-d33b-11eb-9522-06551cb39bc6-6a4jqR.tmp_.jpg
END:VEVENT
END:VCALENDAR